BEGIN:VCALENDAR
VERSION:2.0
PRODID:-//CPIA/ACI - ECPv6.15.16//NONSGML v1.0//EN
CALSCALE:GREGORIAN
METHOD:PUBLISH
X-WR-CALNAME:CPIA/ACI
X-ORIGINAL-URL:https://cpia-aci.ca
X-WR-CALDESC:Events for CPIA/ACI
REFRESH-INTERVAL;VALUE=DURATION:PT1H
X-Robots-Tag:noindex
X-PUBLISHED-TTL:PT1H
BEGIN:VTIMEZONE
TZID:America/Halifax
BEGIN:DAYLIGHT
TZOFFSETFROM:-0400
TZOFFSETTO:-0300
TZNAME:ADT
DTSTART:20250309T060000
END:DAYLIGHT
BEGIN:STANDARD
TZOFFSETFROM:-0300
TZOFFSETTO:-0400
TZNAME:AST
DTSTART:20251102T050000
END:STANDARD
BEGIN:DAYLIGHT
TZOFFSETFROM:-0400
TZOFFSETTO:-0300
TZNAME:ADT
DTSTART:20260308T060000
END:DAYLIGHT
BEGIN:STANDARD
TZOFFSETFROM:-0300
TZOFFSETTO:-0400
TZNAME:AST
DTSTART:20261101T050000
END:STANDARD
BEGIN:DAYLIGHT
TZOFFSETFROM:-0400
TZOFFSETTO:-0300
TZNAME:ADT
DTSTART:20270314T060000
END:DAYLIGHT
BEGIN:STANDARD
TZOFFSETFROM:-0300
TZOFFSETTO:-0400
TZNAME:AST
DTSTART:20271107T050000
END:STANDARD
END:VTIMEZONE
BEGIN:VEVENT
DTSTART;TZID=America/Halifax:20260506T140000
DTEND;TZID=America/Halifax:20260506T153000
DTSTAMP:20260422T222143
CREATED:20260416T222605Z
LAST-MODIFIED:20260416T222745Z
UID:3107-1778076000-1778081400@cpia-aci.ca
SUMMARY:CPIA Webinar: "Environmental Responsibility in a Time of Economic Instability: What Printers Need to Know"
DESCRIPTION:Wednesday\, May 6\, 2026\, 11:00am-12:30pm PST | 2:00–3:30pm EST  \nAs environmental expectations continue to evolve across the print industry\, many businesses are facing new requirements\, cost pressures\, and operational considerations. At the same time\, ongoing economic uncertainty is making it increasingly difficult to prioritize sustainability initiatives while printers and customers are closely scrutinizing their costs.   In this session\, our panel of experts will demonstrate that advancing environmental practices during a time of uncertainty can help printers develop a competitive edge and grow their business. Panelists will help printers better understand the landscape\, reduce uncertainty\, and identify effective approaches to navigating environmental responsibility in a complex and shifting environment. \nPresenting Sponsor: FSC Canada.\nSupporting Sponsor: Print Releaf. \nWEBINAR PANELISTS: \n\nJeff Welch\, Market Development Manager\, Forestry Stewardship Council \nJordan Darragh\, Founder & CEO\, Print Releaf \nVanessa Pereira\, Senior Manager – Customer Success\, Carbon Hound \nAaron Ling\, Director of Sustainability\, Sustana \nLyndsey Chauhan\, VP\, Program Engagement\, Western Canada\, Recycle BC & SK Recycles\nModerator: Bob Dale\, Connecting For Results
URL:https://cpia-aci.ca/calendrier/cpia-webinar-environmental-responsibility-in-a-time-of-economic-instability-what-printers-need-to-know/
END:VEVENT
END:VCALENDAR